BEGIN:VCALENDAR
VERSION:2.0
PRODID:-//BSV Bochum - ECPv6.15.20//NONSGML v1.0//EN
CALSCALE:GREGORIAN
METHOD:PUBLISH
X-ORIGINAL-URL:https://bezirks-sv-bochum.de
X-WR-CALDESC:Veranstaltungen für BSV Bochum
REFRESH-INTERVAL;VALUE=DURATION:PT1H
X-Robots-Tag:noindex
X-PUBLISHED-TTL:PT1H
BEGIN:VTIMEZONE
TZID:Europe/Paris
BEGIN:DAYLIGHT
TZOFFSETFROM:+0100
TZOFFSETTO:+0200
TZNAME:CEST
DTSTART:20240331T010000
END:DAYLIGHT
BEGIN:STANDARD
TZOFFSETFROM:+0200
TZOFFSETTO:+0100
TZNAME:CET
DTSTART:20241027T010000
END:STANDARD
BEGIN:DAYLIGHT
TZOFFSETFROM:+0100
TZOFFSETTO:+0200
TZNAME:CEST
DTSTART:20250330T010000
END:DAYLIGHT
BEGIN:STANDARD
TZOFFSETFROM:+0200
TZOFFSETTO:+0100
TZNAME:CET
DTSTART:20251026T010000
END:STANDARD
BEGIN:DAYLIGHT
TZOFFSETFROM:+0100
TZOFFSETTO:+0200
TZNAME:CEST
DTSTART:20260329T010000
END:DAYLIGHT
BEGIN:STANDARD
TZOFFSETFROM:+0200
TZOFFSETTO:+0100
TZNAME:CET
DTSTART:20261025T010000
END:STANDARD
END:VTIMEZONE
BEGIN:VEVENT
DTSTART;TZID=Europe/Paris:20251104T170000
DTEND;TZID=Europe/Paris:20251104T190000
DTSTAMP:20260419T154614
CREATED:20251028T055024Z
LAST-MODIFIED:20251028T055024Z
UID:1926-1762275600-1762282800@bezirks-sv-bochum.de
SUMMARY:Bezirksvorstandssitzung
DESCRIPTION:
URL:https://bezirks-sv-bochum.de/veranstaltung/bezirksvorstandssitzung-15/
LOCATION:Jugendraum der DGB Ruhr-Mark\, Alleestraße 80\, Bochum\, Nordrhein-Westfalen\, 44793\, Germany
CATEGORIES:Sitzung
ATTACH;FMTTYPE=image/png:https://bezirks-sv-bochum.de/wp-content/uploads/2025/06/Bezirksvorstandssitzung_20250622_204320_0000-scaled.png
ORGANIZER;CN="Bezirksschueler*innenvertretung Bochum":MAILTO:info@bezirks-sv-bochum.de
END:VEVENT
BEGIN:VEVENT
DTSTART;TZID=Europe/Paris:20251111T173000
DTEND;TZID=Europe/Paris:20251111T190000
DTSTAMP:20260419T154614
CREATED:20251101T090445Z
LAST-MODIFIED:20251109T094955Z
UID:1941-1762882200-1762887600@bezirks-sv-bochum.de
SUMMARY:Bezirksvorstandssitzung
DESCRIPTION:
URL:https://bezirks-sv-bochum.de/veranstaltung/bezirksvorstandssitzung-16/
LOCATION:Jugendraum der DGB Ruhr-Mark\, Alleestraße 80\, Bochum\, Nordrhein-Westfalen\, 44793\, Germany
CATEGORIES:Sitzung
ATTACH;FMTTYPE=image/png:https://bezirks-sv-bochum.de/wp-content/uploads/2025/06/Bezirksvorstandssitzung_20250622_204320_0000-scaled.png
ORGANIZER;CN="Bezirksschueler*innenvertretung Bochum":MAILTO:info@bezirks-sv-bochum.de
END:VEVENT
BEGIN:VEVENT
DTSTART;TZID=Europe/Paris:20251114T160000
DTEND;TZID=Europe/Paris:20251114T180000
DTSTAMP:20260419T154614
CREATED:20251028T055607Z
LAST-MODIFIED:20251028T060004Z
UID:1928-1763136000-1763143200@bezirks-sv-bochum.de
SUMMARY:Klimastreik
DESCRIPTION:Weitere Informationen im Instagram Beitrag der Fridays For Future Bochum. Klicken sie hier
URL:https://bezirks-sv-bochum.de/veranstaltung/klimastreik/
LOCATION:Bochum Hauptbahnhof\, Kurt-Schumacher-Platz 14\, Bochum\, Nordrhein-Westfalen\, 44787\, Germany
CATEGORIES:Proteste
END:VEVENT
BEGIN:VEVENT
DTSTART;TZID=Europe/Paris:20251115T100000
DTEND;TZID=Europe/Paris:20251115T160000
DTSTAMP:20260419T154614
CREATED:20251112T083109Z
LAST-MODIFIED:20251112T083133Z
UID:2027-1763200800-1763222400@bezirks-sv-bochum.de
SUMMARY:Die JugendBildungsmesse 2025
DESCRIPTION:JuBi – Die JugendBildungsmesse in Bochum\n15.11.2025 | Hildegardis-Schule\n10 bis 16 Uhr | Eintritt frei!\nAlle Infos und aktuelle Hinweise:\nhttps://weltweiser.de/jugendbildungsmesse-bochum/ \n  \n2025-11-15 – Bochum- Schule_digitaler Flyer
URL:https://bezirks-sv-bochum.de/veranstaltung/die-jugendbildungsmesse-2025/
LOCATION:Hildergardis Gymnasium\, Klinikstraße 1\, Bochum\, Nordrhein-Westfalen\, 44791\, Germany
CATEGORIES:Messe
END:VEVENT
BEGIN:VEVENT
DTSTART;TZID=Europe/Paris:20251118T090000
DTEND;TZID=Europe/Paris:20251118T145000
DTSTAMP:20260419T154614
CREATED:20251011T174808Z
LAST-MODIFIED:20251028T054848Z
UID:1830-1763456400-1763477400@bezirks-sv-bochum.de
SUMMARY:21. Bezirksdelegiertenkonferenz
DESCRIPTION:Weitere Informationen hier
URL:https://bezirks-sv-bochum.de/veranstaltung/21-bezirksdelegiertenkonferenz/
LOCATION:Goethe Schule\, Goetheplatz 1\, Bochum\, Nordrhein-Westfalen\, 44791\, Germany
CATEGORIES:Bezirksdelegiertenkonferenz
ATTACH;FMTTYPE=image/png:https://bezirks-sv-bochum.de/wp-content/uploads/2025/10/11.-November-2025_20251026_192055_0000-1.png
ORGANIZER;CN="Bezirksschueler*innenvertretung Bochum":MAILTO:info@bezirks-sv-bochum.de
END:VEVENT
BEGIN:VEVENT
DTSTART;TZID=Europe/Paris:20251118T150000
DTEND;TZID=Europe/Paris:20251118T160000
DTSTAMP:20260419T154614
CREATED:20251101T090557Z
LAST-MODIFIED:20251101T090711Z
UID:1943-1763478000-1763481600@bezirks-sv-bochum.de
SUMMARY:Bezirksvorstandssitzung
DESCRIPTION:
URL:https://bezirks-sv-bochum.de/veranstaltung/bezirksvorstandssitzung-17/
LOCATION:Goethe Schule\, Goetheplatz 1\, Bochum\, Nordrhein-Westfalen\, 44791\, Germany
CATEGORIES:Sitzung
ATTACH;FMTTYPE=image/png:https://bezirks-sv-bochum.de/wp-content/uploads/2025/06/Bezirksvorstandssitzung_20250622_204320_0000-scaled.png
ORGANIZER;CN="Bezirksschueler*innenvertretung Bochum":MAILTO:info@bezirks-sv-bochum.de
END:VEVENT
BEGIN:VEVENT
DTSTART;TZID=Europe/Paris:20251121T150000
DTEND;TZID=Europe/Paris:20251123T150000
DTSTAMP:20260419T154614
CREATED:20250620T162027Z
LAST-MODIFIED:20251017T102610Z
UID:1118-1763737200-1763910000@bezirks-sv-bochum.de
SUMMARY:144. Landesdelegiertenkonferenz
DESCRIPTION:Liebe Landesdelegierte\,  \nliebe Aktive in den BSVen\,  \nliebe Interessierte\,                                                                  \n  \nhiermit laden wir euch herzlich zur  \n144. Landesdelegiertenkonferenz \nder Landesschüler*innenvertretung Nordrhein-Westfalen \nvom 21. November – 23. November 2025 \nin der Jugendherberge Bielefeld\, \nHermann-Kleinwächter-Straße 1\, 33602 Bielefeld   \nein. \nBitte nutzt die Online-Anmeldung auf unserer Website. Ihr findet zwei verschiedene Formulare „Anmeldung unter 18“ und „Anmeldung über 18“\, die ihr nutzen könnt. Für die U18-Anmeldungen benötigt ihr weiterhin ein schriftliches Einverständnis eurer Erziehungsberechtigten\, die ihr an das Formular anhängen könnt.  \nAus organisatorischen Gründen liegt der Anmeldeschluss am 04.11.2025.  \nIhr werdet eine Eingangsbestätigung bekommen\, die keine feste Zusage für einen Platz auf der LDK ist. Mit dieser geht das Landessekretariat sicher\, dass keine Anmeldung unter gehen oder Daten fehlen. Meldet euch also gerne beim Sekretariat\, falls ihr keine Eingangsbestätigung bis kurz vor Anmeldeschluss bekommen haben solltet. Zu- und Absagen erfolgen ab dem 05.11.2025. \nWenn ihr Anträge an die LDK richten möchtet\, ist eine frühzeitige Sendung an das Landessekretariat für unser aller Arbeit sehr sinnvoll. Im TO-Vorschlag ist der Antragsschluss auf Freitag\, 16:45 Uhr\, gesetzt. \nBei weiteren Fragen hilft Euch das Landessekretariat zu den Bürozeiten telefonisch (0211-330703) oder per E-Mail (info@lsvnrw.de) gerne weiter.  \nHier könnt ihr Entschuldigungen für eventuelle Fehlstunden am Freitag/Samstag anfragen. Lasst euch rechtzeitig vorher beurlauben\, damit der Unfallschutz des Landes für Euch gilt\, auch wenn ihr durch die LDK keinen Unterricht verpasst.  \nEs handelt sich bei der LDK um eine Schulveranstaltung\, deshalb lasst Alkohol etc. zu Hause und haltet Euch an die Teilnahmebedingungen\, um einen Ausschluss von der Veranstaltung zu vermeiden. Übernachtungen im Rahmen der LDK sind erst ab 14 Jahren möglich. \nAnbei findet ihr einen Aufschlag für eine mögliche Tagesordnung der Konferenz. \nWir freuen uns auf eine spannende\, ereignisreiche Landesdelegiertenkonferenz mit Euch!  \nMit solidarischen Grüßen \nEuer Landesvorstand  \n\n\n\n— \nInformationen oben aus der Webseite der LSV NRW übernommen. \n\nFür die Anmeldung\, Dateien bitte hier klicken.
URL:https://bezirks-sv-bochum.de/veranstaltung/144-landesdelegiertenkonferenz/
LOCATION:Jugendherberge Bielefeld\, Herrmann-Kleinwächter-Straße 1\, Bielefeld\, 33602
CATEGORIES:Landesdelegiertenkonferenz
ATTACH;FMTTYPE=image/png:https://bezirks-sv-bochum.de/wp-content/uploads/2025/06/LDK-Banner144-scaled-1.png
ORGANIZER;CN="LSV NRW":MAILTO:info@lsvnrw.de
END:VEVENT
BEGIN:VEVENT
DTSTART;TZID=Europe/Paris:20251125T170000
DTEND;TZID=Europe/Paris:20251125T190000
DTSTAMP:20260419T154614
CREATED:20251112T081343Z
LAST-MODIFIED:20251112T081343Z
UID:2019-1764090000-1764097200@bezirks-sv-bochum.de
SUMMARY:Bezirksvorstandssitzung
DESCRIPTION:
URL:https://bezirks-sv-bochum.de/veranstaltung/bezirksvorstandssitzung-18/
LOCATION:Jugendraum der DGB Ruhr-Mark\, Alleestraße 80\, Bochum\, Nordrhein-Westfalen\, 44793\, Germany
CATEGORIES:Sitzung
ATTACH;FMTTYPE=image/png:https://bezirks-sv-bochum.de/wp-content/uploads/2025/06/Bezirksvorstandssitzung_20250622_204320_0000-scaled.png
ORGANIZER;CN="Bezirksschueler*innenvertretung Bochum":MAILTO:info@bezirks-sv-bochum.de
END:VEVENT
END:VCALENDAR