BEGIN:VCALENDAR
VERSION:2.0
PRODID:-//BSV Bochum - ECPv6.15.20//NONSGML v1.0//EN
CALSCALE:GREGORIAN
METHOD:PUBLISH
X-ORIGINAL-URL:https://bezirks-sv-bochum.de
X-WR-CALDESC:Veranstaltungen für BSV Bochum
REFRESH-INTERVAL;VALUE=DURATION:PT1H
X-Robots-Tag:noindex
X-PUBLISHED-TTL:PT1H
BEGIN:VTIMEZONE
TZID:Europe/Paris
BEGIN:DAYLIGHT
TZOFFSETFROM:+0100
TZOFFSETTO:+0200
TZNAME:CEST
DTSTART:20230326T010000
END:DAYLIGHT
BEGIN:STANDARD
TZOFFSETFROM:+0200
TZOFFSETTO:+0100
TZNAME:CET
DTSTART:20231029T010000
END:STANDARD
BEGIN:DAYLIGHT
TZOFFSETFROM:+0100
TZOFFSETTO:+0200
TZNAME:CEST
DTSTART:20240331T010000
END:DAYLIGHT
BEGIN:STANDARD
TZOFFSETFROM:+0200
TZOFFSETTO:+0100
TZNAME:CET
DTSTART:20241027T010000
END:STANDARD
BEGIN:DAYLIGHT
TZOFFSETFROM:+0100
TZOFFSETTO:+0200
TZNAME:CEST
DTSTART:20250330T010000
END:DAYLIGHT
BEGIN:STANDARD
TZOFFSETFROM:+0200
TZOFFSETTO:+0100
TZNAME:CET
DTSTART:20251026T010000
END:STANDARD
END:VTIMEZONE
BEGIN:VEVENT
DTSTART;TZID=Europe/Paris:20241125T090000
DTEND;TZID=Europe/Paris:20241125T150000
DTSTAMP:20260422T035621
CREATED:20250622T110632Z
LAST-MODIFIED:20250622T123943Z
UID:1163-1732525200-1732546800@bezirks-sv-bochum.de
SUMMARY:18. Bezirksdelegiertenkonferenz
DESCRIPTION:Die 18. Bezirksdelegiertenkonferenz (BDK) der Bezirksschüler*innenvertretung Bochum (BSV Bochum) findet am 25.11.2024 in der Aula der Theodor-Körner-Schule statt. Alle interessierten Schüler*innen und Bezirksdelegierten sind eingeladen\, daran teilzunehmen. Es wird drei Workshops geben: „How to (B)SV?“\, „Was ist Bildung & Schule“ und „Was ist Klassismus?“. Weiter erwarten euch konstruktive Diskussionen\, Anträge\, Nachwahlen für den Bezirksvorstand und vieles mehr. Wenn ihr mehr wissen wollt\, schaut auf unserer Website bezirks-sv-bochum.de vorbei. Bitte meldet euch vorher an\, wenn ihr teilnehmen möchtet.
URL:https://bezirks-sv-bochum.de/veranstaltung/18-bezirksdelegiertenkonferenz/
LOCATION:Theodor-Körner-Schule\, Keilstraße 42-48\, Bochum\, 44879
CATEGORIES:Bezirksdelegiertenkonferenz
ATTACH;FMTTYPE=image/png:https://bezirks-sv-bochum.de/wp-content/uploads/2024/10/Sharepic-18.-BDK-BSV-Bochum_1.png
ORGANIZER;CN="Bezirksschueler*innenvertretung Bochum":MAILTO:info@bezirks-sv-bochum.de
END:VEVENT
END:VCALENDAR