BEGIN:VCALENDAR
VERSION:2.0
PRODID:-//BSV Bochum - ECPv6.15.20//NONSGML v1.0//EN
CALSCALE:GREGORIAN
METHOD:PUBLISH
X-ORIGINAL-URL:https://bezirks-sv-bochum.de
X-WR-CALDESC:Veranstaltungen für BSV Bochum
REFRESH-INTERVAL;VALUE=DURATION:PT1H
X-Robots-Tag:noindex
X-PUBLISHED-TTL:PT1H
BEGIN:VTIMEZONE
TZID:Europe/Paris
BEGIN:DAYLIGHT
TZOFFSETFROM:+0100
TZOFFSETTO:+0200
TZNAME:CEST
DTSTART:20240331T010000
END:DAYLIGHT
BEGIN:STANDARD
TZOFFSETFROM:+0200
TZOFFSETTO:+0100
TZNAME:CET
DTSTART:20241027T010000
END:STANDARD
BEGIN:DAYLIGHT
TZOFFSETFROM:+0100
TZOFFSETTO:+0200
TZNAME:CEST
DTSTART:20250330T010000
END:DAYLIGHT
BEGIN:STANDARD
TZOFFSETFROM:+0200
TZOFFSETTO:+0100
TZNAME:CET
DTSTART:20251026T010000
END:STANDARD
BEGIN:DAYLIGHT
TZOFFSETFROM:+0100
TZOFFSETTO:+0200
TZNAME:CEST
DTSTART:20260329T010000
END:DAYLIGHT
BEGIN:STANDARD
TZOFFSETFROM:+0200
TZOFFSETTO:+0100
TZNAME:CET
DTSTART:20261025T010000
END:STANDARD
END:VTIMEZONE
BEGIN:VEVENT
DTSTART;TZID=Europe/Paris:20250701T150000
DTEND;TZID=Europe/Paris:20250701T190000
DTSTAMP:20260421T180617
CREATED:20250620T153909Z
LAST-MODIFIED:20250622T185550Z
UID:1089-1751382000-1751396400@bezirks-sv-bochum.de
SUMMARY:Ausschuss für Schule und Bildung
DESCRIPTION:Teilnahme nur für Vorsitzende*r/stellv. Vorsitzende*r der BSV Bochum
URL:https://bezirks-sv-bochum.de/veranstaltung/ausschuss-fuer-schule-und-bildung/
LOCATION:Technisches Rathaus der Stadt Bochum\, Hans-Böckler-Straße 19\, Bochum\, 44787
CATEGORIES:Ausschuss
ATTACH;FMTTYPE=image/png:https://bezirks-sv-bochum.de/wp-content/uploads/2025/06/Bezirksvorstandssitzung_20250622_205302_0000-scaled.png
END:VEVENT
BEGIN:VEVENT
DTSTART;TZID=Europe/Paris:20250701T170000
DTEND;TZID=Europe/Paris:20250701T180000
DTSTAMP:20260421T180617
CREATED:20250620T155324Z
LAST-MODIFIED:20250622T184457Z
UID:1094-1751389200-1751392800@bezirks-sv-bochum.de
SUMMARY:Bezirksvorstandssitzung
DESCRIPTION:Teilnahme für Vorstandsmitglieder \n  \nGäste bitte vorher anmelden!
URL:https://bezirks-sv-bochum.de/veranstaltung/bezirksvorstandssitzung-2/
LOCATION:Schulverwaltungsamt der Stadt Bochum (alt)\, Junggesellenstraße 8\, Bochum\, Nordrhein-Westfalen\, 44787\, Germany
CATEGORIES:Sitzung
ATTACH;FMTTYPE=image/png:https://bezirks-sv-bochum.de/wp-content/uploads/2025/06/Bezirksvorstandssitzung_20250622_204320_0000-scaled.png
ORGANIZER;CN="Bezirksschueler*innenvertretung Bochum":MAILTO:info@bezirks-sv-bochum.de
END:VEVENT
END:VCALENDAR