BEGIN:VCALENDAR
VERSION:2.0
PRODID:-//BSV Bochum - ECPv6.15.20//NONSGML v1.0//EN
CALSCALE:GREGORIAN
METHOD:PUBLISH
X-ORIGINAL-URL:https://bezirks-sv-bochum.de
X-WR-CALDESC:Veranstaltungen für BSV Bochum
REFRESH-INTERVAL;VALUE=DURATION:PT1H
X-Robots-Tag:noindex
X-PUBLISHED-TTL:PT1H
BEGIN:VTIMEZONE
TZID:Europe/Paris
BEGIN:DAYLIGHT
TZOFFSETFROM:+0100
TZOFFSETTO:+0200
TZNAME:CEST
DTSTART:20240331T010000
END:DAYLIGHT
BEGIN:STANDARD
TZOFFSETFROM:+0200
TZOFFSETTO:+0100
TZNAME:CET
DTSTART:20241027T010000
END:STANDARD
BEGIN:DAYLIGHT
TZOFFSETFROM:+0100
TZOFFSETTO:+0200
TZNAME:CEST
DTSTART:20250330T010000
END:DAYLIGHT
BEGIN:STANDARD
TZOFFSETFROM:+0200
TZOFFSETTO:+0100
TZNAME:CET
DTSTART:20251026T010000
END:STANDARD
BEGIN:DAYLIGHT
TZOFFSETFROM:+0100
TZOFFSETTO:+0200
TZNAME:CEST
DTSTART:20260329T010000
END:DAYLIGHT
BEGIN:STANDARD
TZOFFSETFROM:+0200
TZOFFSETTO:+0100
TZNAME:CET
DTSTART:20261025T010000
END:STANDARD
END:VTIMEZONE
BEGIN:VEVENT
DTSTART;TZID=Europe/Paris:20250625T113000
DTEND;TZID=Europe/Paris:20250625T133000
DTSTAMP:20260422T003622
CREATED:20250620T160037Z
LAST-MODIFIED:20250620T161457Z
UID:1096-1750851000-1750858200@bezirks-sv-bochum.de
SUMMARY:Bildungsprotest
DESCRIPTION:Weitere Infos zum BiPro finden Sie unter: https://bezirks-sv-bochum.de/bildungsprotest oder https://lsvnrw.de/bildungsprotest
URL:https://bezirks-sv-bochum.de/veranstaltung/bildungsprotest/
LOCATION:Essen Hbf
CATEGORIES:Proteste
ATTACH;FMTTYPE=image/png:https://bezirks-sv-bochum.de/wp-content/uploads/2025/06/Banner-Bipro-scaled-1.png
ORGANIZER;CN="LSV NRW":MAILTO:info@lsvnrw.de
END:VEVENT
END:VCALENDAR