BEGIN:VCALENDAR
VERSION:2.0
PRODID:-//BSV Bochum - ECPv6.15.20//NONSGML v1.0//EN
CALSCALE:GREGORIAN
METHOD:PUBLISH
X-ORIGINAL-URL:https://bezirks-sv-bochum.de
X-WR-CALDESC:Veranstaltungen für BSV Bochum
REFRESH-INTERVAL;VALUE=DURATION:PT1H
X-Robots-Tag:noindex
X-PUBLISHED-TTL:PT1H
BEGIN:VTIMEZONE
TZID:Europe/Paris
BEGIN:DAYLIGHT
TZOFFSETFROM:+0100
TZOFFSETTO:+0200
TZNAME:CEST
DTSTART:20240331T010000
END:DAYLIGHT
BEGIN:STANDARD
TZOFFSETFROM:+0200
TZOFFSETTO:+0100
TZNAME:CET
DTSTART:20241027T010000
END:STANDARD
BEGIN:DAYLIGHT
TZOFFSETFROM:+0100
TZOFFSETTO:+0200
TZNAME:CEST
DTSTART:20250330T010000
END:DAYLIGHT
BEGIN:STANDARD
TZOFFSETFROM:+0200
TZOFFSETTO:+0100
TZNAME:CET
DTSTART:20251026T010000
END:STANDARD
BEGIN:DAYLIGHT
TZOFFSETFROM:+0100
TZOFFSETTO:+0200
TZNAME:CEST
DTSTART:20260329T010000
END:DAYLIGHT
BEGIN:STANDARD
TZOFFSETFROM:+0200
TZOFFSETTO:+0100
TZNAME:CET
DTSTART:20261025T010000
END:STANDARD
END:VTIMEZONE
BEGIN:VEVENT
DTSTART;VALUE=DATE:20250516
DTEND;VALUE=DATE:20250519
DTSTAMP:20260421T212748
CREATED:20250622T100533Z
LAST-MODIFIED:20250622T100533Z
UID:1157-1747353600-1747612799@bezirks-sv-bochum.de
SUMMARY:143. Landesdelegiertenkonferenz
DESCRIPTION:Auf der kommenden Landesdelegiertenkonferenz (LDK) werden wir ein Arbeitsprogramm (APO) für die kommende Legislatur und einen Landesvorstand (LaVo) neu wählen\, welcher die LSV NRW im Schuljahr 25/26 vertreten wird. Dafür suchen wir engagierte und motivierte Schüler*innen. Weitere Infos auf der LSV Website!
URL:https://bezirks-sv-bochum.de/veranstaltung/143-landesdelegiertenkonferenz/
LOCATION:Salvador-Allende-Haus\, Haardgrenzweg 77\, Oer-Erkenschwick\, 45739
CATEGORIES:Landesdelegiertenkonferenz
ORGANIZER;CN="LSV NRW":MAILTO:info@lsvnrw.de
END:VEVENT
END:VCALENDAR